BEGIN:VCALENDAR
VERSION:2.0
PRODID:-//SGA SACA. Sistema de gestión de almacenes (WMS) - ECPv5.14.2.1//NONSGML v1.0//EN
CALSCALE:GREGORIAN
METHOD:PUBLISH
X-WR-CALNAME:SGA SACA. Sistema de gestión de almacenes (WMS)
X-ORIGINAL-URL:https://sga.com.es
X-WR-CALDESC:Eventos para SGA SACA. Sistema de gestión de almacenes (WMS)
BEGIN:VTIMEZONE
TZID:Europe/Madrid
BEGIN:DAYLIGHT
TZOFFSETFROM:+0100
TZOFFSETTO:+0200
TZNAME:CEST
DTSTART:20190331T010000
END:DAYLIGHT
BEGIN:STANDARD
TZOFFSETFROM:+0200
TZOFFSETTO:+0100
TZNAME:CET
DTSTART:20191027T010000
END:STANDARD
END:VTIMEZONE
BEGIN:VEVENT
DTSTART;TZID=Europe/Madrid:20191218T103000
DTEND;TZID=Europe/Madrid:20191218T130000
DTSTAMP:20260420T113659
CREATED:20191120T205014Z
LAST-MODIFIED:20191120T205014Z
UID:470-1576665000-1576674000@sga.com.es
SUMMARY:Jornadas Logísticas 2019. Bilbao. Android y RFID en el almacén y la fábrica
DESCRIPTION:AGENDA \nRecepción a asistentes.\nPresentación de la Jornada.\nTecnología RFID y Normativa. LF\, HF y UHF\, cuándo usar. UHF Gen2. EPC. Aplicaciones en almacenaje\, distribución\, fabricación\, etc.\nTendencias en la Gestión de Almacenes. Migración a Android. Wearables. Picking guiado por voz. Manejo de documentación multimedia.\nDemostración de equipos RFID. Middleware.\nDudas y preguntas.
URL:https://sga.com.es/jornada-logistica/jornadas-logisticas-2019-bilbao
LOCATION:Euskalduna Jauregia Bilbao – Palacio Euskalduna de Congresos y de la Música\, Abandoibarra Etorb.\, 4\, 48011\, Bilbao\, Bizkaia\, 48011\, España
ORGANIZER;CN="TSF%20Inform%C3%A1tica%20Industrial%20S.L.":MAILTO:sales@tsf.info
END:VEVENT
END:VCALENDAR